BEGIN:VCALENDAR
VERSION:2.0
PRODID:-//wp-events-plugin.com//7.2.3.1//EN
TZID:Europe/Paris
X-WR-TIMEZONE:Europe/Paris
BEGIN:VEVENT
UID:219@aikido.scgt.fr
DTSTART;TZID=Europe/Paris:20260410T190000
DTEND;TZID=Europe/Paris:20260410T210000
DTSTAMP:20251119T142428Z
URL:https://aikido.scgt.fr/events/cours-au-dojo-gretz-armainvilliers-2-202
 6-04-10/
SUMMARY:Cours au dojo Max Monrazel de Gretz Armainvilliers
DESCRIPTION:Les cours ont lieu de 19h à 21h le mardi et le vendredi.\n\n&n
 bsp\;
ATTACH;FMTTYPE=image/jpeg:https://aikido.scgt.fr/wp-content/uploads/2016/0
 2/Dojo-Gretz.jpg
CATEGORIES:Les cours
LOCATION:Dojo Max Monrazel (Seine et Marne)\, Rue de Vignolles\, Gretz-Arma
 invilliers\, Seine et Marne\, 77220\, Ile de France\, France
X-APPLE-STRUCTURED-LOCATION;VALUE=URI;X-ADDRESS=Rue de Vignolles\, Gretz-Ar
 mainvilliers\, Seine et Marne\, 77220\, Ile de France\, France;X-APPLE-RAD
 IUS=100;X-TITLE=Dojo Max Monrazel (Seine et Marne):geo:0,0
END:VEVENT
BEGIN:VTIMEZONE
TZID:Europe/Paris
X-LIC-LOCATION:Europe/Paris
BEGIN:DAYLIGHT
DTSTART:20260329T030000
TZOFFSETFROM:+0100
TZOFFSETTO:+0200
TZNAME:CEST
END:DAYLIGHT
END:VTIMEZONE
END:VCALENDAR