BEGIN:VCALENDAR
VERSION:2.0
PRODID:-//wp-events-plugin.com//7.2.3.1//EN
TZID:Europe/Paris
X-WR-TIMEZONE:Europe/Paris
BEGIN:VEVENT
UID:45@aikido.scgt.fr
DTSTART;TZID=Europe/Paris:20260419T100000
DTEND;TZID=Europe/Paris:20260419T120000
DTSTAMP:20260302T215824Z
URL:https://aikido.scgt.fr/events/cours-au-dojo-de-la-marsange-a-tournan-e
 n-brie-2026-04-19/
SUMMARY:Cours au dojo de la Marsange à Tournan-en-Brie
DESCRIPTION:Les cours ont lieu de 10h à 12h le Dimanche
ATTACH;FMTTYPE=image/jpeg:https://aikido.scgt.fr/wp-content/uploads/2016/0
 2/Dojo-de-la-Marsange-TNA-Architectes-TOURNAN-77-825x510-1.jpg
CATEGORIES:Les cours
LOCATION:Dojo de la Marsange (Seine et Marne)\, Rue de la corderie\, Tourna
 n-en-brie\, Seine et Marne\, 77220\, Ile de France\, France
X-APPLE-STRUCTURED-LOCATION;VALUE=URI;X-ADDRESS=Rue de la corderie\, Tourna
 n-en-brie\, Seine et Marne\, 77220\, Ile de France\, France;X-APPLE-RADIUS
 =100;X-TITLE=Dojo de la Marsange (Seine et Marne):geo:0,0
END:VEVENT
BEGIN:VTIMEZONE
TZID:Europe/Paris
X-LIC-LOCATION:Europe/Paris
BEGIN:DAYLIGHT
DTSTART:20260329T030000
TZOFFSETFROM:+0100
TZOFFSETTO:+0200
TZNAME:CEST
END:DAYLIGHT
END:VTIMEZONE
END:VCALENDAR